BEGIN:VCALENDAR
VERSION:2.0
PRODID:-//Hereford &amp; District Driving Group - ECPv6.15.20//NONSGML v1.0//EN
CALSCALE:GREGORIAN
METHOD:PUBLISH
X-ORIGINAL-URL:https://www.hddg.co.uk
X-WR-CALDESC:Events for Hereford &amp; District Driving Group
REFRESH-INTERVAL;VALUE=DURATION:PT1H
X-Robots-Tag:noindex
X-PUBLISHED-TTL:PT1H
BEGIN:VTIMEZONE
TZID:Europe/London
BEGIN:DAYLIGHT
TZOFFSETFROM:+0000
TZOFFSETTO:+0100
TZNAME:BST
DTSTART:20230326T010000
END:DAYLIGHT
BEGIN:STANDARD
TZOFFSETFROM:+0100
TZOFFSETTO:+0000
TZNAME:GMT
DTSTART:20231029T010000
END:STANDARD
BEGIN:DAYLIGHT
TZOFFSETFROM:+0000
TZOFFSETTO:+0100
TZNAME:BST
DTSTART:20240331T010000
END:DAYLIGHT
BEGIN:STANDARD
TZOFFSETFROM:+0100
TZOFFSETTO:+0000
TZNAME:GMT
DTSTART:20241027T010000
END:STANDARD
BEGIN:DAYLIGHT
TZOFFSETFROM:+0000
TZOFFSETTO:+0100
TZNAME:BST
DTSTART:20250330T010000
END:DAYLIGHT
BEGIN:STANDARD
TZOFFSETFROM:+0100
TZOFFSETTO:+0000
TZNAME:GMT
DTSTART:20251026T010000
END:STANDARD
END:VTIMEZONE
BEGIN:VEVENT
DTSTART;VALUE=DATE:20240810
DTEND;VALUE=DATE:20240812
DTSTAMP:20260422T230904
CREATED:20240212T172912Z
LAST-MODIFIED:20240212T173123Z
UID:5961-1723248000-1723420799@www.hddg.co.uk
SUMMARY:Welland Weekend
DESCRIPTION:
URL:https://www.hddg.co.uk/calendar/welland-weekend-2/
LOCATION:Welland Lodge Farm\, Upton upon Severn\, Worcester\, WR8 0SS
CATEGORIES:HDDG Rally
END:VEVENT
BEGIN:VEVENT
DTSTART;VALUE=DATE:20240818
DTEND;VALUE=DATE:20240819
DTSTAMP:20260422T230904
CREATED:20240807T091440Z
LAST-MODIFIED:20240807T091440Z
UID:5982-1723939200-1724025599@www.hddg.co.uk
SUMMARY:The Berkeley Drive
DESCRIPTION:Pat and Mikes The Berkeley Drive on the 18th of August.\n8.6 miles fairly flat\, pretty drive with beautiful scenery.\nMeet from 10am with 11am set off. \nCake for after\, Please bring your own picnics.
URL:https://www.hddg.co.uk/calendar/the-berkeley-drive/
LOCATION:Berkeley\, RockHampton\, Berkeley
CATEGORIES:HDDG Rally
END:VEVENT
END:VCALENDAR