BEGIN:VCALENDAR
VERSION:2.0
PRODID:-//Hereford &amp; District Driving Group - ECPv6.15.20//NONSGML v1.0//EN
CALSCALE:GREGORIAN
METHOD:PUBLISH
X-ORIGINAL-URL:https://www.hddg.co.uk
X-WR-CALDESC:Events for Hereford &amp; District Driving Group
REFRESH-INTERVAL;VALUE=DURATION:PT1H
X-Robots-Tag:noindex
X-PUBLISHED-TTL:PT1H
BEGIN:VTIMEZONE
TZID:Europe/London
BEGIN:DAYLIGHT
TZOFFSETFROM:+0000
TZOFFSETTO:+0100
TZNAME:BST
DTSTART:20230326T010000
END:DAYLIGHT
BEGIN:STANDARD
TZOFFSETFROM:+0100
TZOFFSETTO:+0000
TZNAME:GMT
DTSTART:20231029T010000
END:STANDARD
BEGIN:DAYLIGHT
TZOFFSETFROM:+0000
TZOFFSETTO:+0100
TZNAME:BST
DTSTART:20240331T010000
END:DAYLIGHT
BEGIN:STANDARD
TZOFFSETFROM:+0100
TZOFFSETTO:+0000
TZNAME:GMT
DTSTART:20241027T010000
END:STANDARD
BEGIN:DAYLIGHT
TZOFFSETFROM:+0000
TZOFFSETTO:+0100
TZNAME:BST
DTSTART:20250330T010000
END:DAYLIGHT
BEGIN:STANDARD
TZOFFSETFROM:+0100
TZOFFSETTO:+0000
TZNAME:GMT
DTSTART:20251026T010000
END:STANDARD
BEGIN:DAYLIGHT
TZOFFSETFROM:+0000
TZOFFSETTO:+0100
TZNAME:BST
DTSTART:20260329T010000
END:DAYLIGHT
BEGIN:STANDARD
TZOFFSETFROM:+0100
TZOFFSETTO:+0000
TZNAME:GMT
DTSTART:20261025T010000
END:STANDARD
BEGIN:DAYLIGHT
TZOFFSETFROM:+0000
TZOFFSETTO:+0100
TZNAME:BST
DTSTART:20270328T010000
END:DAYLIGHT
BEGIN:STANDARD
TZOFFSETFROM:+0100
TZOFFSETTO:+0000
TZNAME:GMT
DTSTART:20271031T010000
END:STANDARD
END:VTIMEZONE
BEGIN:VEVENT
DTSTART;VALUE=DATE:20240908
DTEND;VALUE=DATE:20240909
DTSTAMP:20260422T231921
CREATED:20240212T172718Z
LAST-MODIFIED:20240212T172718Z
UID:5959-1725753600-1725839999@www.hddg.co.uk
SUMMARY:Bromsberrow Rally
DESCRIPTION:
URL:https://www.hddg.co.uk/calendar/bromsberrow-rally/
LOCATION:Bromsberrow Estate\, Bromsberrow\, Ledbury\, HR8 1RZ
CATEGORIES:HDDG Rally
END:VEVENT
BEGIN:VEVENT
DTSTART;VALUE=DATE:20240930
DTEND;VALUE=DATE:20241001
DTSTAMP:20260422T231921
CREATED:20240212T173015Z
LAST-MODIFIED:20240922T124948Z
UID:5963-1727654400-1727740799@www.hddg.co.uk
SUMMARY:Elan Valley Drive (on a Monday)
DESCRIPTION:Change of Date \nMeeting at the Visitor Centre at 10am for an 11am start.\nApprox. 12 mile route with wonderful scenic views. \nBacon rolls and tea/coffee provided at start.\nPlease bring your own packed lunch for finish.
URL:https://www.hddg.co.uk/calendar/elan-valley-drive-on-a-tuesday-2/
LOCATION:Elan Valley\, Elan Village\, Rhayader\, LD6 5HP
CATEGORIES:HDDG Rally
END:VEVENT
BEGIN:VEVENT
DTSTART;VALUE=DATE:20241027
DTEND;VALUE=DATE:20241028
DTSTAMP:20260422T231921
CREATED:20240922T124524Z
LAST-MODIFIED:20241024T102046Z
UID:5986-1729987200-1730073599@www.hddg.co.uk
SUMMARY:Garway Rally
DESCRIPTION:Sunday 27th October \nGarway rally from Old Field Farm and Forge. \nTo arrive from  10 am \nBreakfast buns on arrival with soup and rolls on return back at Old Field Farm. \nHalf way stop at common outside the Garway Moon pub. \n 
URL:https://www.hddg.co.uk/calendar/garway-rally/
CATEGORIES:HDDG Rally
END:VEVENT
BEGIN:VEVENT
DTSTART;VALUE=DATE:20241110
DTEND;VALUE=DATE:20241111
DTSTAMP:20260422T231921
CREATED:20241024T101941Z
LAST-MODIFIED:20241024T102103Z
UID:5991-1731196800-1731283199@www.hddg.co.uk
SUMMARY:Remembrance Drive
DESCRIPTION:TBA
URL:https://www.hddg.co.uk/calendar/remembrance-drive/
LOCATION:Llangarron\, Llangarron\, Ross-on-Wye\, HR9 6PE
CATEGORIES:HDDG Rally
END:VEVENT
BEGIN:VEVENT
DTSTART;VALUE=DATE:20250216
DTEND;VALUE=DATE:20250217
DTSTAMP:20260422T231921
CREATED:20250209T144927Z
LAST-MODIFIED:20250209T144927Z
UID:5998-1739664000-1739750399@www.hddg.co.uk
SUMMARY:Valentines Drive
DESCRIPTION:Llangarron to Garway Moon \nArrive from 10 am breakfast rolls\, tea & coffee available on arrival. \nSet off for 11am on 10 mile route to Garway Moon and back. Please ask for shorter if required. \nSoup and rolls on return with apple pie for desert. \nHDDG signs from main road to the farm. \nSee you on the 16th \nBook in with Ed & Carol 01989 569843 / 07929 789633 or on Facebook
URL:https://www.hddg.co.uk/calendar/valentines-drive/
LOCATION:Llangarron\, Llangarron\, Ross-on-Wye\, HR9 6PE
CATEGORIES:HDDG Rally
END:VEVENT
BEGIN:VEVENT
DTSTART;VALUE=DATE:20250316
DTEND;VALUE=DATE:20250317
DTSTAMP:20260422T231921
CREATED:20250302T195219Z
LAST-MODIFIED:20250302T195412Z
UID:6022-1742083200-1742169599@www.hddg.co.uk
SUMMARY:Eastnor Castle and Beyond Drive
DESCRIPTION:Start @ Mount Pleasant Farm\, Castlemorton.\n(What3words- tacky.pound.lushly.) \nHDDG signposted from Robin Hood pub\, WR136BS \nArrive @ 10am for bacon rolls tea/ coffee \nStart 11 am to finish approx. 3 pm \n12 miles route around southern Malvern Hills taking in Eastnor Castle area.\nAll tarmac\, mostly single track undulating roads with a Ford thrown in for good measure.
URL:https://www.hddg.co.uk/calendar/eastnor-castle-and-beyond-drive/
LOCATION:Mount Pleasant Farm\, Castlemorton\, Mount Pleasant Farm\, Castlemorton\, WR13 6BS
END:VEVENT
BEGIN:VEVENT
DTSTART;VALUE=DATE:20250420
DTEND;VALUE=DATE:20250421
DTSTAMP:20260422T231921
CREATED:20250209T145129Z
LAST-MODIFIED:20250209T145226Z
UID:6000-1745107200-1745193599@www.hddg.co.uk
SUMMARY:Easter Drive
DESCRIPTION:Details to Follow
URL:https://www.hddg.co.uk/calendar/easter-drive/
LOCATION:To be Announced
CATEGORIES:HDDG Rally
END:VEVENT
BEGIN:VEVENT
DTSTART;VALUE=DATE:20250510
DTEND;VALUE=DATE:20250512
DTSTAMP:20260422T231921
CREATED:20250209T145407Z
LAST-MODIFIED:20250303T194646Z
UID:6004-1746835200-1747007999@www.hddg.co.uk
SUMMARY:Ynyslas Beach Weekend
DESCRIPTION:Arrive Friday or Saturday for 2 days by the sea. \n12 Mile drive plus fun on the beach \n 
URL:https://www.hddg.co.uk/calendar/ynyslas-beach-weekend/
LOCATION:Ynyslas\, Ty-Gwyn Farm\, Ynys-Las\, Borth\, SY24 5LA\, United Kingdom
CATEGORIES:HDDG Rally
ORGANIZER;CN="Chris & Nikki Laing":MAILTO:nicshorses@gmail.com
END:VEVENT
BEGIN:VEVENT
DTSTART;VALUE=DATE:20250601
DTEND;VALUE=DATE:20250602
DTSTAMP:20260422T231921
CREATED:20250501T092338Z
LAST-MODIFIED:20250501T092338Z
UID:6053-1748736000-1748822399@www.hddg.co.uk
SUMMARY:Shirenewton Drive
DESCRIPTION:1st June 2025 \n10 miles of beautiful countryside and sea views. \nArrive from 10am \nBring a picnic. \nBook in with Mike and Frances
URL:https://www.hddg.co.uk/calendar/shirenewton-drive-2/
LOCATION:Shirenewton\, Shirenewton\, Chepstow
END:VEVENT
BEGIN:VEVENT
DTSTART;TZID=Europe/London:20250613T080000
DTEND;TZID=Europe/London:20250615T170000
DTSTAMP:20260422T231921
CREATED:20250209T145615Z
LAST-MODIFIED:20250209T145615Z
UID:6007-1749801600-1750006800@www.hddg.co.uk
SUMMARY:Weekend at Hibby's
DESCRIPTION:Details to be Announced nearer the date
URL:https://www.hddg.co.uk/calendar/weekend-at-hibbys/
LOCATION:Hibbys\, St Margarets\, Hereford\, HR2 0QW
CATEGORIES:HDDG Rally
END:VEVENT
BEGIN:VEVENT
DTSTART;VALUE=DATE:20250629
DTEND;VALUE=DATE:20250630
DTSTAMP:20260422T231921
CREATED:20250209T145715Z
LAST-MODIFIED:20250209T145715Z
UID:6009-1751155200-1751241599@www.hddg.co.uk
SUMMARY:Pats Memorial Drive
DESCRIPTION:Details to be Announced
URL:https://www.hddg.co.uk/calendar/pats-memorial-drive/
LOCATION:Eldersfield\, Corse Lawn\, Gloucester\, GL19 4PW\, United Kingdom
END:VEVENT
BEGIN:VEVENT
DTSTART;VALUE=DATE:20250705
DTEND;VALUE=DATE:20250707
DTSTAMP:20260422T231921
CREATED:20250209T145830Z
LAST-MODIFIED:20250617T140656Z
UID:6011-1751673600-1751846399@www.hddg.co.uk
SUMMARY:Welsh Weekend - Postponed
DESCRIPTION:Postponed\, due to A40 road closure
URL:https://www.hddg.co.uk/calendar/welsh-weekend/
LOCATION:Penrhiw\, Babel\, Llandovery\, SA20 0RP
CATEGORIES:HDDG Rally
ORGANIZER;CN="Chris & Nikki Laing":MAILTO:nicshorses@gmail.com
END:VEVENT
BEGIN:VEVENT
DTSTART;VALUE=DATE:20250712
DTEND;VALUE=DATE:20250713
DTSTAMP:20260422T231921
CREATED:20250407T202055Z
LAST-MODIFIED:20250701T181449Z
UID:6032-1752278400-1752364799@www.hddg.co.uk
SUMMARY:Richard and Mike's Rally
DESCRIPTION:Details to follow
URL:https://www.hddg.co.uk/calendar/emmas-rally-2/
LOCATION:To be Announced
END:VEVENT
BEGIN:VEVENT
DTSTART;VALUE=DATE:20250803
DTEND;VALUE=DATE:20250804
DTSTAMP:20260422T231921
CREATED:20250729T094419Z
LAST-MODIFIED:20250729T094626Z
UID:6078-1754179200-1754265599@www.hddg.co.uk
SUMMARY:Berkley Drive
DESCRIPTION:We would like to invite you to a drive starting from Rockhampton near Berkeley. \nA lovely drive in the scenic vale of Berkeley covering approximately 10.5 miles over gently undulating country lanes lending itself to a sedate pace. \nArrive at 10am for a hot roll and tea or coffee and briefing (please bring mugs) with the drive starting at 11am. \nOn return there will be hot drinks and cake and please bring a picnic and chairs and we look forward to seeing you all there. \nThe parking will again be on the common directly in front of the farmhouse at the kind permission of Mr & Mrs Richard & Sarah Childe. \nEnter via Facebook/ messenger or contact Richard
URL:https://www.hddg.co.uk/calendar/berkley-drive/
LOCATION:Berkeley\, RockHampton\, Berkeley
CATEGORIES:HDDG Rally
END:VEVENT
BEGIN:VEVENT
DTSTART;VALUE=DATE:20250809
DTEND;VALUE=DATE:20250811
DTSTAMP:20260422T231921
CREATED:20250403T102147Z
LAST-MODIFIED:20250403T102147Z
UID:6029-1754697600-1754870399@www.hddg.co.uk
SUMMARY:Welland Weekend
DESCRIPTION:Camping / lorry park in field. Some stables available\, will do our best to accommodate all ponies. \nLots of off road driving both days and BBQ on Saturday evening. \nYou are more than welcome to rock up on Friday evening for more burnt offerings and Sloe Gin!!
URL:https://www.hddg.co.uk/calendar/welland-weekend-3/
LOCATION:Welland Lodge Farm\, Upton upon Severn\, Worcester\, WR8 0SS
CATEGORIES:HDDG Rally
END:VEVENT
BEGIN:VEVENT
DTSTART;VALUE=DATE:20250921
DTEND;VALUE=DATE:20250922
DTSTAMP:20260422T231921
CREATED:20250209T145950Z
LAST-MODIFIED:20260301T110903Z
UID:6013-1758412800-1758499199@www.hddg.co.uk
SUMMARY:Bromsberrow Estate Drive
DESCRIPTION:Details to Follow
URL:https://www.hddg.co.uk/calendar/bromsberrow-estate-drive/
LOCATION:Bromsberrow Estate\, Bromsberrow\, Ledbury\, HR8 1RZ
CATEGORIES:HDDG Rally
END:VEVENT
BEGIN:VEVENT
DTSTART;VALUE=DATE:20251019
DTEND;VALUE=DATE:20251020
DTSTAMP:20260422T231921
CREATED:20250209T150152Z
LAST-MODIFIED:20250209T150626Z
UID:6015-1760832000-1760918399@www.hddg.co.uk
SUMMARY:Garway Hill Drive
DESCRIPTION:Details to follow
URL:https://www.hddg.co.uk/calendar/garway-hill-drive/
LOCATION:Garway Hill\, Garway Hill\, HR2 8HA
CATEGORIES:HDDG Rally
END:VEVENT
BEGIN:VEVENT
DTSTART;VALUE=DATE:20251109
DTEND;VALUE=DATE:20251110
DTSTAMP:20260422T231921
CREATED:20250209T150715Z
LAST-MODIFIED:20250209T150715Z
UID:6019-1762646400-1762732799@www.hddg.co.uk
SUMMARY:Remembrance Drive
DESCRIPTION:Details to follow
URL:https://www.hddg.co.uk/calendar/remembrance-drive-2/
LOCATION:Llangarron\, Llangarron\, Ross-on-Wye\, HR9 6PE
CATEGORIES:HDDG Rally
END:VEVENT
BEGIN:VEVENT
DTSTART;VALUE=DATE:20260215
DTEND;VALUE=DATE:20260216
DTSTAMP:20260422T231921
CREATED:20260127T180708Z
LAST-MODIFIED:20260127T214726Z
UID:6113-1771113600-1771199999@www.hddg.co.uk
SUMMARY:Valentines Drive
DESCRIPTION:Details to follow
URL:https://www.hddg.co.uk/calendar/valentines-drive-2/
LOCATION:Llangarron\, Llangarron\, Ross-on-Wye\, HR9 6PE
CATEGORIES:HDDG Rally
END:VEVENT
BEGIN:VEVENT
DTSTART;VALUE=DATE:20260405
DTEND;VALUE=DATE:20260406
DTSTAMP:20260422T231921
CREATED:20260301T110341Z
LAST-MODIFIED:20260301T110525Z
UID:6116-1775347200-1775433599@www.hddg.co.uk
SUMMARY:Easter Rally
DESCRIPTION:Details to follow
URL:https://www.hddg.co.uk/calendar/easter-rally-2/
LOCATION:Castlemorton\, Castlemorton\, Malvern
CATEGORIES:HDDG Rally
END:VEVENT
BEGIN:VEVENT
DTSTART;VALUE=DATE:20260415
DTEND;VALUE=DATE:20260416
DTSTAMP:20260422T231921
CREATED:20260312T141751Z
LAST-MODIFIED:20260312T141751Z
UID:6133-1776211200-1776297599@www.hddg.co.uk
SUMMARY:Elan Valley Drive
DESCRIPTION:Wednesday\, 15th April 2026 \nDetails to Follow
URL:https://www.hddg.co.uk/calendar/elan-valley-drive/
LOCATION:Elan Valley\, Elan Village\, Rhayader\, LD6 5HP
CATEGORIES:HDDG Rally
END:VEVENT
BEGIN:VEVENT
DTSTART;VALUE=DATE:20260503
DTEND;VALUE=DATE:20260504
DTSTAMP:20260422T231921
CREATED:20260312T141347Z
LAST-MODIFIED:20260405T181734Z
UID:6126-1777766400-1777852799@www.hddg.co.uk
SUMMARY:Usk Castle - Rosie's Drive
DESCRIPTION:Details to follow
URL:https://www.hddg.co.uk/calendar/usk-castle-rosies-drive/
LOCATION:Usk Castle\, Monmouth Rd\, Usk\, NP15 1SD
CATEGORIES:HDDG Rally
END:VEVENT
BEGIN:VEVENT
DTSTART;VALUE=DATE:20260607
DTEND;VALUE=DATE:20260608
DTSTAMP:20260422T231921
CREATED:20260312T141624Z
LAST-MODIFIED:20260312T141624Z
UID:6131-1780790400-1780876799@www.hddg.co.uk
SUMMARY:Mike's Drive
DESCRIPTION:Details to Follow
URL:https://www.hddg.co.uk/calendar/mikes-drive/
LOCATION:Shirenewton\, Shirenewton\, Chepstow
CATEGORIES:HDDG Rally
END:VEVENT
BEGIN:VEVENT
DTSTART;VALUE=DATE:20260621
DTEND;VALUE=DATE:20260622
DTSTAMP:20260422T231921
CREATED:20260301T110708Z
LAST-MODIFIED:20260301T110708Z
UID:6121-1782000000-1782086399@www.hddg.co.uk
SUMMARY:Pat Nichols Memorial Rally
DESCRIPTION:Details to follow
URL:https://www.hddg.co.uk/calendar/pat-nichols-memorial-rally/
LOCATION:Eldersfield\, Corse Lawn\, Gloucester\, GL19 4PW\, United Kingdom
CATEGORIES:HDDG Rally
END:VEVENT
BEGIN:VEVENT
DTSTART;VALUE=DATE:20260712
DTEND;VALUE=DATE:20260713
DTSTAMP:20260422T231921
CREATED:20260312T142558Z
LAST-MODIFIED:20260312T142821Z
UID:6135-1783814400-1783900799@www.hddg.co.uk
SUMMARY:John's Rally
DESCRIPTION:Details to Follow
URL:https://www.hddg.co.uk/calendar/johns-rally/
LOCATION:Minety\, Dog Trap lane\, Minety\, SN16 9PW
CATEGORIES:HDDG Rally
END:VEVENT
BEGIN:VEVENT
DTSTART;VALUE=DATE:20260809
DTEND;VALUE=DATE:20260810
DTSTAMP:20260422T231921
CREATED:20260312T143030Z
LAST-MODIFIED:20260312T143030Z
UID:6141-1786233600-1786319999@www.hddg.co.uk
SUMMARY:Deb and Richard's Drive
DESCRIPTION:Social Evening on the Saturday \nDetails to Follow
URL:https://www.hddg.co.uk/calendar/deb-and-richards-drive/
LOCATION:Welland Lodge Farm\, Upton upon Severn\, Worcester\, WR8 0SS
CATEGORIES:HDDG Rally
END:VEVENT
BEGIN:VEVENT
DTSTART;VALUE=DATE:20260913
DTEND;VALUE=DATE:20260914
DTSTAMP:20260422T231921
CREATED:20260301T110839Z
LAST-MODIFIED:20260301T110940Z
UID:6123-1789257600-1789343999@www.hddg.co.uk
SUMMARY:Bromsberrow Rally
DESCRIPTION:Details to follow
URL:https://www.hddg.co.uk/calendar/bromsberrow-rally-2/
LOCATION:Bromsberrow Estate\, Bromsberrow\, Ledbury\, HR8 1RZ
CATEGORIES:HDDG Rally
END:VEVENT
END:VCALENDAR